BEGIN:VCALENDAR
VERSION:2.0
PRODID:-//Auckland RSA - ECPv4.4.5//NONSGML v1.0//EN
CALSCALE:GREGORIAN
METHOD:PUBLISH
X-WR-CALNAME:Auckland RSA
X-ORIGINAL-URL:http://www.aucklandrsa.co.nz
X-WR-CALDESC:Events for Auckland RSA
BEGIN:VEVENT
DTSTART;TZID=Pacific/Auckland:20260425T043000
DTEND;TZID=Pacific/Auckland:20260425T070000
DTSTAMP:20260421T174734
CREATED:20260416T042007Z
LAST-MODIFIED:20260416T042058Z
UID:896-1777091400-1777100400@www.aucklandrsa.co.nz
SUMMARY:2026 Anzac Day Dawn Service — The Cenotaph Auckland War Memorial Museum
DESCRIPTION:Auckland Anzac Day Dawn Service \n\nVeterans Parade\nAssembly: From 4.30am in the Auckland War Memorial Museum underground carpark\nParade: Step-off from Cenotaph Road at 5.50am marching onto the Court of Honour\n\nService\n6am at The Cenotaph\, Auckland War Memorial Museum (the public is encouraged to be there from 5:30am at the latest)\n\nWatch LIVE on Whakaata Māori Television channel and online www.maoriplus.co.nz
URL:http://www.aucklandrsa.co.nz/event/2026-anzac-day-dawn-service-cenotaph-auckland-war-memorial-museum/
END:VEVENT
END:VCALENDAR